BEGIN:VCALENDAR
VERSION:2.0
PRODID:-//Adiestramiento Canino en Barcelona · Edukao - ECPv6.15.8//NONSGML v1.0//EN
CALSCALE:GREGORIAN
METHOD:PUBLISH
X-WR-CALNAME:Adiestramiento Canino en Barcelona · Edukao
X-ORIGINAL-URL:https://edukao.com
X-WR-CALDESC:Eventos para Adiestramiento Canino en Barcelona · Edukao
REFRESH-INTERVAL;VALUE=DURATION:PT1H
X-Robots-Tag:noindex
X-PUBLISHED-TTL:PT1H
BEGIN:VTIMEZONE
TZID:UTC
BEGIN:STANDARD
TZOFFSETFROM:+0000
TZOFFSETTO:+0000
TZNAME:UTC
DTSTART:20220101T000000
END:STANDARD
END:VTIMEZONE
BEGIN:VEVENT
DTSTART;TZID=UTC:20240512T180000
DTEND;TZID=UTC:20240512T200000
DTSTAMP:20260422T203008
CREATED:20240418T115844Z
LAST-MODIFIED:20240418T115844Z
UID:5203-1715536800-1715544000@edukao.com
SUMMARY:Formación Online Problemas de comportamiento durante el paseo
DESCRIPTION:Edukao les presenta el curso de Problemas durante el paseo formato On-Line en grupo\, un curso especialmente dedicado a familias con perros de todas las edades y tamaños\, que están observando que su perro últimamente\, no se porta bien durante el paseo\, por diferentes motivos\, como por ejemplo\, salta a las personas\, les ladra\, se tira a morder a perros o personas\, tira de la correa\, etc…..
URL:https://edukao.com/agenda/www-edukao-com/
ATTACH;FMTTYPE=image/jpeg:https://edukao.com/wp-content/uploads/2024/04/3_cartel_problemas_paseo_online_2024_mayo.jpg
END:VEVENT
BEGIN:VEVENT
DTSTART;TZID=UTC:20240323T173000
DTEND;TZID=UTC:20240323T183000
DTSTAMP:20260422T203008
CREATED:20240229T102534Z
LAST-MODIFIED:20240229T102534Z
UID:5025-1711215000-1711218600@edukao.com
SUMMARY:Taller de Agilty (Iniciación)
DESCRIPTION:Mediante saltos\, túneles o rampas\, lo pasaréis en grande recorriendo un circuito de obstáculos\, en el menor tiempo posible tan solo con indicaciones verbales y corporales.\nTe ayudaremos a iniciarte en los principales pistas de agility\, no te preocupes por el nivel de tu perro\, ya que es una iniciación a este maravilloso deporte.
URL:https://edukao.com/agenda/taller-de-agilty-iniciacion/
ATTACH;FMTTYPE=image/jpeg:https://edukao.com/wp-content/uploads/2024/02/cartel-marzo-sc-web.jpg
END:VEVENT
BEGIN:VEVENT
DTSTART;TZID=UTC:20240309T180000
DTEND;TZID=UTC:20240309T190000
DTSTAMP:20260422T203008
CREATED:20240229T101939Z
LAST-MODIFIED:20240229T101939Z
UID:5022-1710007200-1710010800@edukao.com
SUMMARY:Taller de adiestramiento básico
DESCRIPTION:Ven a realizar ejercicios prácticos de adiestramiento. Realizaremos los principales ejercicios de adiestramiento básico como son:\nSentado\nTumbado\nArriba\nEn pié\nQuieto\nLa llamada\nY tirar de la correa\nPasarás una hora aprendiendo con tu perro y divirtiéndote en familia.
URL:https://edukao.com/agenda/taller-de-adiestramiento-basico/
ATTACH;FMTTYPE=image/jpeg:https://edukao.com/wp-content/uploads/2024/02/cartel-marzo-mirasol-web.jpg
END:VEVENT
BEGIN:VEVENT
DTSTART;TZID=UTC:20240301T183000
DTEND;TZID=UTC:20240301T193000
DTSTAMP:20260422T203008
CREATED:20240229T090703Z
LAST-MODIFIED:20240229T091941Z
UID:5016-1709317800-1709321400@edukao.com
SUMMARY:El lenguaje de comunicación de los gatos
DESCRIPTION:¿Conoces todas las maneras que tienen los gatos para poderse comunicar? Ven a a este interesante taller para aprender todo lo referencia la comunicación en gatos. \nDescubre que señales son las más comunes entre los gatos\, de una forma divertida\, con la participación de toda la familia. \nInscríbete en la web de www.doncanino.com\, te recuerdo que esta actividad es GRATIS.
URL:https://edukao.com/agenda/el-lenguaje-de-comunicacion-de-los-gatos/
ATTACH;FMTTYPE=image/jpeg:https://edukao.com/wp-content/uploads/2024/02/cartel-marzo-bcn-web.jpg
END:VEVENT
BEGIN:VEVENT
DTSTART;TZID=UTC:20240225T180000
DTEND;TZID=UTC:20240225T200000
DTSTAMP:20260422T203008
CREATED:20240128T191008Z
LAST-MODIFIED:20240202T104415Z
UID:4811-1708884000-1708891200@edukao.com
SUMMARY:Formación Online Cachorros
DESCRIPTION:La llegada de un cachorro es un evento muy especial que requiere una planificación cuidadosa. \nPor eso\, el próximo 25 de Febrero te recomendamos la formación online de Cachorros. \n\nEste curso está destinado a aquellos particulares que quieran aprender a educar a sus cachorros ellos mismos\, bajo la supervisión y asesoramiento de adiestradores profesionales\, para mejorar la comunicación\, comprender el lenguaje de tu perro y resolver tus dudas. Sabemos que en esta etapa tenéis muchas preguntas y necesitáis comprender el motivo de ciertos comportamientos y que mejor que empezar cómodamente desde casa.\n\n\n\nPodrás seguir el curso desde cualquier dispositivo\, ordenador\, móvil\, tablet… \n\nTe esperamos!!
URL:https://edukao.com/agenda/formacion-online-cachorros/
ATTACH;FMTTYPE=image/jpeg:https://edukao.com/wp-content/uploads/2024/01/cartel_cachorrros_online_2024_febrero.jpg
END:VEVENT
BEGIN:VEVENT
DTSTART;TZID=UTC:20240210T113000
DTEND;TZID=UTC:20240210T123000
DTSTAMP:20260422T203008
CREATED:20240202T173029Z
LAST-MODIFIED:20240202T173029Z
UID:4882-1707564600-1707568200@edukao.com
SUMMARY:Taller de Problemas de comportamiento en gatos
DESCRIPTION:Un problema de comportamiento es cualquier conducta que tu gato realice y que pueda ser molesto por el propietario\, existen diferentes tipos y causas de problemas de comportamiento. \nRefuerza el vínculo con tu gato\, entendiendo su comportamiento. Alimentación\, higiene\, sus hábitos… Todo lo que necesitas saber para evitar comportamientos no deseados.  \nUn taller para toda la familia y GRATIS  \n  \n\n\n\n \n 
URL:https://edukao.com/agenda/taller-de-problemas-de-comportamiento-en-gatos/
ATTACH;FMTTYPE=image/png:https://edukao.com/wp-content/uploads/2024/02/foto-taller-febrero-web.png
END:VEVENT
BEGIN:VEVENT
DTSTART;TZID=UTC:20240203T113000
DTEND;TZID=UTC:20240203T123000
DTSTAMP:20260422T203008
CREATED:20240202T105635Z
LAST-MODIFIED:20240202T105635Z
UID:4830-1706959800-1706963400@edukao.com
SUMMARY:Taller de Cachorros
DESCRIPTION:En este Taller de cachorros trabajaremos diferentes aspectos de la educación canina. \nLa etapa de cachorro es fundamental en el desarrollo de tu perro. Durante este período\, los cachorros absorben rápidamente información y aprenden cómo interactuar con su entorno. Es el momento ideal para establecer patrones de comportamiento deseables y fortalecer el vínculo entre tú y tu cachorro. \nTe esperamos en esta actividad totalmente GRATUITA y para toda la familia. \nReserva tu plaza ya. \n 
URL:https://edukao.com/agenda/taller-de-cachorros/
ATTACH;FMTTYPE=image/png:https://edukao.com/wp-content/uploads/2024/01/febrero-don-canino.png
END:VEVENT
BEGIN:VEVENT
DTSTART;TZID=UTC:20231125T173000
DTEND;TZID=UTC:20231125T203000
DTSTAMP:20260422T203008
CREATED:20231114T122952Z
LAST-MODIFIED:20231114T131114Z
UID:4075-1700933400-1700944200@edukao.com
SUMMARY:Taller de Comunicación felina en Don Canino
DESCRIPTION:¿Quieres descubrir todos los secretos de la comunicación felina? Aprende a detectar todas sus señales y a descubrir su gran mundo interior \n  \nSábado 25 De noviembre 2023\nHora: 17:30  \nLugar: Don Canino Barcelona   \n 
URL:https://edukao.com/agenda/taller-de-comunicacion-felina-en-don-canino/
LOCATION:Don Canino Barcelona\, C. de Villarroel\, 235\,\, Barcelona\, Barcelona\, 08036\, España
ATTACH;FMTTYPE=image/jpeg:https://edukao.com/wp-content/uploads/2023/11/GATOS-COMUNICACION-WEB.jpg
END:VEVENT
BEGIN:VEVENT
DTSTART;TZID=UTC:20231028T113000
DTEND;TZID=UTC:20231028T140000
DTSTAMP:20260422T203008
CREATED:20230911T132903Z
LAST-MODIFIED:20231026T171043Z
UID:1898-1698492600-1698501600@edukao.com
SUMMARY:Taller de Don Canino: Adiestramiento básico en Mirasol
DESCRIPTION:Esta es una descripción de ejemplo\, aquí puedes añadir la cantidad de texto que prefieras. Esta es una descripción de ejemplo\, aquí puedes añadir la cantidad de texto que prefieras. Esta es una descripción de ejemplo\, aquí puedes añadir la cantidad de texto que prefieras. Esta es una descripción de ejemplo\, aquí puedes añadir la cantidad de texto que prefieras. Esta es una descripción de ejemplo\, aquí puedes añadir la cantidad de texto que prefieras. Esta es una descripción de ejemplo\, aquí puedes añadir la cantidad de texto que prefieras. Esta es una descripción de ejemplo\, aquí puedes añadir la cantidad de texto que prefieras. Esta es una descripción de ejemplo\, aquí puedes añadir la cantidad de texto que prefieras. Esta es una descripción de ejemplo\, aquí puedes añadir la cantidad de texto que prefieras. Esta es una descripción de ejemplo\, aquí puedes añadir la cantidad de texto que prefieras. Esta es una descripción de ejemplo\, aquí puedes añadir la cantidad de texto que prefieras. Esta es una descripción de ejemplo\, aquí puedes añadir la cantidad de texto que prefieras. \n  \nEsta es una descripción de ejemplo\, aquí puedes añadir la cantidad de texto que prefieras. Esta es una descripción de ejemplo\, aquí puedes añadir la cantidad de texto que prefieras. Esta es una descripción de ejemplo\, aquí puedes añadir la cantidad de texto que prefieras. Esta es una descripción de ejemplo\, aquí puedes añadir la cantidad de texto que prefieras.
URL:https://edukao.com/agenda/taller-de-don-canino-adiestramiento-basico-en-mirasol/
LOCATION:Nombre local\, Callef Falsa\, 123\, Barcelona\, Barcelona\, 08028\, España
ATTACH;FMTTYPE=image/jpeg:https://edukao.com/wp-content/uploads/2023/08/adiestramiento-cinco.jpg
ORGANIZER;CN="Organizador nombre":MAILTO:ejemplo@correo.es
END:VEVENT
BEGIN:VEVENT
DTSTART;TZID=UTC:20231021T113000
DTEND;TZID=UTC:20231021T140000
DTSTAMP:20260422T203008
CREATED:20230911T132828Z
LAST-MODIFIED:20230911T132828Z
UID:1899-1697887800-1697896800@edukao.com
SUMMARY:Taller de Don Canino: Quién pasea a quién en Sant Cugat
DESCRIPTION:
URL:https://edukao.com/agenda/taller-de-don-canino-quien-pasea-a-quien-en-sant-cugat/
ATTACH;FMTTYPE=image/jpeg:https://edukao.com/wp-content/uploads/2023/08/adiestramiento-cinco.jpg
END:VEVENT
BEGIN:VEVENT
DTSTART;TZID=UTC:20231015T093000
DTEND;TZID=UTC:20231015T113000
DTSTAMP:20260422T203008
CREATED:20230911T132749Z
LAST-MODIFIED:20230911T132749Z
UID:1900-1697362200-1697369400@edukao.com
SUMMARY:Salida a la montaña
DESCRIPTION:
URL:https://edukao.com/agenda/salida-a-la-montana/
ATTACH;FMTTYPE=image/jpeg:https://edukao.com/wp-content/uploads/2023/08/adiestramiento-cinco.jpg
END:VEVENT
BEGIN:VEVENT
DTSTART;TZID=UTC:20231014T113000
DTEND;TZID=UTC:20231014T140000
DTSTAMP:20260422T203008
CREATED:20230911T132702Z
LAST-MODIFIED:20230911T132702Z
UID:1901-1697283000-1697292000@edukao.com
SUMMARY:Taller de Don Canino: Problema de comportamiento para gatos en Barcelona
DESCRIPTION:
URL:https://edukao.com/agenda/taller-de-don-canino-problema-de-comportamiento-para-gatos-en-barcelona/
ATTACH;FMTTYPE=image/jpeg:https://edukao.com/wp-content/uploads/2023/08/adiestramiento-cinco.jpg
END:VEVENT
BEGIN:VEVENT
DTSTART;TZID=UTC:20231007T180000
DTEND;TZID=UTC:20231007T200000
DTSTAMP:20260422T203008
CREATED:20230911T013309Z
LAST-MODIFIED:20230911T132536Z
UID:1375-1696701600-1696708800@edukao.com
SUMMARY:Curso Online de estimulación canina
DESCRIPTION:
URL:https://edukao.com/agenda/evento-de-prueba/
ATTACH;FMTTYPE=image/jpeg:https://edukao.com/wp-content/uploads/2023/08/adiestramiento-cinco.jpg
END:VEVENT
END:VCALENDAR