BEGIN:VCALENDAR
VERSION:2.0
PRODID:-//Adiestramiento Canino en Barcelona · Edukao - ECPv6.15.8//NONSGML v1.0//EN
CALSCALE:GREGORIAN
METHOD:PUBLISH
X-WR-CALNAME:Adiestramiento Canino en Barcelona · Edukao
X-ORIGINAL-URL:https://edukao.com
X-WR-CALDESC:Eventos para Adiestramiento Canino en Barcelona · Edukao
REFRESH-INTERVAL;VALUE=DURATION:PT1H
X-Robots-Tag:noindex
X-PUBLISHED-TTL:PT1H
BEGIN:VTIMEZONE
TZID:UTC
BEGIN:STANDARD
TZOFFSETFROM:+0000
TZOFFSETTO:+0000
TZNAME:UTC
DTSTART:20250101T000000
END:STANDARD
END:VTIMEZONE
BEGIN:VEVENT
DTSTART;TZID=UTC:20260425T180000
DTEND;TZID=UTC:20260425T190000
DTSTAMP:20260422T203520
CREATED:20260325T163157Z
LAST-MODIFIED:20260325T163157Z
UID:6807-1777140000-1777143600@edukao.com
SUMMARY:Entiende a tu gato: claves para mejorar su comportamiento en casa
DESCRIPTION:¿Tu gato hace cosas que no entiendes? 🐱No es “malo”… simplemente está comunicando algo. \nEn este taller descubrirás cómo piensa tu gato\, qué necesita realmente y cómo prevenir problemas antes de que aparezcan. \nPorque entender es el primer paso para convivir mejor. \nNos vemos en Maskoteca 👇Plazas limitadas \n#EducacionFelina #Gatos #ComportamientoFelino #Edukao #BienestarAnimal #GatoFeliz #PrevencionAnimal
URL:https://edukao.com/agenda/entiende-a-tu-gato-claves-para-mejorar-su-comportamiento-en-casa/
ATTACH;FMTTYPE=image/jpeg:https://edukao.com/wp-content/uploads/2026/03/WhatsApp-Image-2026-03-24-at-22.07.30.jpeg
END:VEVENT
END:VCALENDAR