BEGIN:VCALENDAR
VERSION:2.0
PRODID:-//Adiestramiento Canino en Barcelona · Edukao - ECPv6.15.8//NONSGML v1.0//EN
CALSCALE:GREGORIAN
METHOD:PUBLISH
X-ORIGINAL-URL:https://edukao.com
X-WR-CALDESC:Eventos para Adiestramiento Canino en Barcelona · Edukao
REFRESH-INTERVAL;VALUE=DURATION:PT1H
X-Robots-Tag:noindex
X-PUBLISHED-TTL:PT1H
BEGIN:VTIMEZONE
TZID:UTC
BEGIN:STANDARD
TZOFFSETFROM:+0000
TZOFFSETTO:+0000
TZNAME:UTC
DTSTART:20250101T000000
END:STANDARD
END:VTIMEZONE
BEGIN:VEVENT
DTSTART;TZID=UTC:20260419T100000
DTEND;TZID=UTC:20260419T130000
DTSTAMP:20260422T173004
CREATED:20260226T185452Z
LAST-MODIFIED:20260325T161125Z
UID:6571-1776592800-1776603600@edukao.com
SUMMARY:curso de cachorro de perro
DESCRIPTION:Formato del Curso de Cachorro de perro\n\n\n\n\nEste curso está diseñado principalmente para la llegada de tu cachorro a casa\, el pre-adiestramiento y creación de buenos hábitos y en la prevención de futuros problemas de comportamiento. Nuestro método de trabajo es en positivo\, que mejor que aprenda jugando y con la participación del 100 % por parte del propietario. Ofreceremos juntos al perro los estímulos apropiados para que se convierta en un perro social.\nFecha 19 de Abril\nde 10:00 13:00\nOs esperamos
URL:https://edukao.com/agenda/curso-de-cachorro-de-perrros/
LOCATION:Aquapark canino\, Ctra. Vallderiolf\, Km 2\, 5\, 08430 La Roca del Vallès\, Barcelona\, 08430
ATTACH;FMTTYPE=image/jpeg:https://edukao.com/wp-content/uploads/2026/03/WhatsApp-Image-2026-03-25-at-16.50.21.jpeg
END:VEVENT
END:VCALENDAR