BEGIN:VCALENDAR
VERSION:2.0
PRODID:-//Adiestramiento Canino en Barcelona · Edukao - ECPv6.15.8//NONSGML v1.0//EN
CALSCALE:GREGORIAN
METHOD:PUBLISH
X-WR-CALNAME:Adiestramiento Canino en Barcelona · Edukao
X-ORIGINAL-URL:https://edukao.com
X-WR-CALDESC:Eventos para Adiestramiento Canino en Barcelona · Edukao
REFRESH-INTERVAL;VALUE=DURATION:PT1H
X-Robots-Tag:noindex
X-PUBLISHED-TTL:PT1H
BEGIN:VTIMEZONE
TZID:UTC
BEGIN:STANDARD
TZOFFSETFROM:+0000
TZOFFSETTO:+0000
TZNAME:UTC
DTSTART:20250101T000000
END:STANDARD
END:VTIMEZONE
BEGIN:VEVENT
DTSTART;TZID=UTC:20260412T093000
DTEND;TZID=UTC:20260412T123000
DTSTAMP:20260422T175205
CREATED:20260226T172226Z
LAST-MODIFIED:20260324T092902Z
UID:6565-1775986200-1775997000@edukao.com
SUMMARY:Curso de adiestramiento en grupo Básico y avanzado
DESCRIPTION:Tiene una duración de 9 horas lectivas\, el curso es totalmente práctico\, en las que el\ndueño enseña a su perro las habilidades necesarias para una correcta educación y\nobediencia\, las clases se imparten en un ambiente distendido y relajado asegurando\nque tanto dueños como perros disfrutan aprendiendo. \nUna de las grandes ventajas del adiestramiento en grupo es el menor coste\neconómico que supone para el propietario ya que los grupos se realizan con\nun máximo personas y perros por grupo. \nEl aprendizaje es más duradero y eficaz\, pues el perro no se condiciona a la presencia\ndel educador canino a la hora de obedecer\, además el perro aprende a estar junto a\notras personas y otros perros favoreciendo la socialización y distracciones.\nUna de las grandes ventajas de la educación en grupo es que el perro se acostumbra a\ntrabajar en un entorno no familiar\, al lado de más gente y de más perros\, aprendiendo\na prestar atención a su dueño\, y no a los perros que tiene al lado. \nEl curso de obediencia básica en grupo se realiza los fines de semana\, en sábados y\ndomingos por la mañana\, y consta de 3 sesiones de 3 horas durante cada sesión. \n  \n 
URL:https://edukao.com/agenda/curso-de-adiestramiento-en-grupo-basico-y-avanzado/
ATTACH;FMTTYPE=image/png:https://edukao.com/wp-content/uploads/2026/03/Curso-3-Domingos-Aquapark-canino.png
END:VEVENT
END:VCALENDAR